BEGIN:VCALENDAR
VERSION:2.0
PRODID:-//eventon.com NONSGML v1.0//EN
CALSCALE:GREGORIAN
METHOD:PUBLISH
BEGIN:VEVENT
UID:69e6366a166e1
DTSTAMP:20260420T142130Z
DTSTART:20230215T170000Z
DTEND:20230215T170000Z
LOCATION:Virtual - Online
SUMMARY:GOMA: Wildlife & Fisheries Mid-year Team Meeting Day 2
DESCRIPTION:Dates: February 8 and 15\,  2023 Location: Virtual (Zoom link
  will be sent to registered participants) Registration: Wildlife &amp; Fis
 heries Mid-Year Meeting Registration Learn more: https://gulfofamericaallia
 nce.org/announcements/alliance-meetings/ \nhttps://gulfofamericaalliance.o
 rg/events/goma-wildlife-fisheries-mid-year-team-meeting-copy/
URL:https://gulfofamericaalliance.org/events/goma-wildlife-fisheries-mid-year-team-meeting-copy/
END:VEVENT
END:VCALENDAR