BEGIN:VCALENDAR
VERSION:2.0
PRODID:-//eventon.com NONSGML v1.0//EN
CALSCALE:GREGORIAN
METHOD:PUBLISH
BEGIN:VEVENT
UID:69eb3f5ada8f3
DTSTAMP:20260424T100058Z
DTSTART:20230130
DTEND:20230131
LOCATION:Hilton Baton Rouge Capitol Center 201 Lafayette Street
SUMMARY:GMFMC: Meeting
DESCRIPTION:Gulf of America Fishery Management Council to Meet January 30 t
 o February 2\,  2023 The Gulf of America Fishery Management Council (Counci
 l) will meet Monday\,  January 30 through Thursday\,  February 2\,  2023 at
  The Hilton Baton Rouge Capitol Center in Baton Rouge\,  Louisiana.  At t
 his meeting\,  the Council plans to take[..]\nhttps://gulfofamericaalliance
 .org/events/gmfmc-meeting-2/
URL:https://gulfofamericaalliance.org/events/gmfmc-meeting-2/
END:VEVENT
END:VCALENDAR